BEGIN:VCALENDAR
VERSION:2.0
PRODID:-//Tenchi Ryu Aikido - ECPv6.15.20//NONSGML v1.0//EN
CALSCALE:GREGORIAN
METHOD:PUBLISH
X-ORIGINAL-URL:https://tenchi-ryu.com
X-WR-CALDESC:Events for Tenchi Ryu Aikido
REFRESH-INTERVAL;VALUE=DURATION:PT1H
X-Robots-Tag:noindex
X-PUBLISHED-TTL:PT1H
BEGIN:VTIMEZONE
TZID:Europe/London
BEGIN:DAYLIGHT
TZOFFSETFROM:+0000
TZOFFSETTO:+0100
TZNAME:BST
DTSTART:20250330T010000
END:DAYLIGHT
BEGIN:STANDARD
TZOFFSETFROM:+0100
TZOFFSETTO:+0000
TZNAME:GMT
DTSTART:20251026T010000
END:STANDARD
BEGIN:DAYLIGHT
TZOFFSETFROM:+0000
TZOFFSETTO:+0100
TZNAME:BST
DTSTART:20260329T010000
END:DAYLIGHT
BEGIN:STANDARD
TZOFFSETFROM:+0100
TZOFFSETTO:+0000
TZNAME:GMT
DTSTART:20261025T010000
END:STANDARD
BEGIN:DAYLIGHT
TZOFFSETFROM:+0000
TZOFFSETTO:+0100
TZNAME:BST
DTSTART:20270328T010000
END:DAYLIGHT
BEGIN:STANDARD
TZOFFSETFROM:+0100
TZOFFSETTO:+0000
TZNAME:GMT
DTSTART:20271031T010000
END:STANDARD
END:VTIMEZONE
BEGIN:VEVENT
DTSTART;TZID=Europe/London:20261212T103000
DTEND;TZID=Europe/London:20261212T123000
DTSTAMP:20260425T151120
CREATED:20251230T164109Z
LAST-MODIFIED:20251230T164517Z
UID:12688-1797071400-1797078600@tenchi-ryu.com
SUMMARY:Junior seminar & grading
DESCRIPTION:Grading application forms must be submitted no later than one week before the Seminar. \nPlease bring a light lunch. \n 
URL:https://tenchi-ryu.com/event/junior-seminar-grading-2-2-3-2/
CATEGORIES:Junior Aikido Seminars
END:VEVENT
BEGIN:VEVENT
DTSTART;TZID=Europe/London:20261220T103000
DTEND;TZID=Europe/London:20261220T143000
DTSTAMP:20260425T151120
CREATED:20251230T165318Z
LAST-MODIFIED:20251230T165318Z
UID:12697-1797762600-1797777000@tenchi-ryu.com
SUMMARY:Adult seminar & grading
DESCRIPTION:Grading application forms must be submitted no later than one week before the Seminar. \nPlease bring a light lunch. \n 
URL:https://tenchi-ryu.com/event/junior-seminar-grading-2-2-3-2-2-4/
CATEGORIES:Adult Aikido seminars
END:VEVENT
END:VCALENDAR